{
 "currentVersion": 10.6,
 "serviceDescription": "Shelby Co Ohio 2021 Imagery Tile Cache 1:500 through 1:500000 scales",
 "name": "aerials/Shelby2021Mosaic_cache",
 "description": "Shelby Co Ohio 2021 Imagery Tile Cache 1:500 through 1:500000 scales",
 "extent": {
  "xmin": 1427500.1736111045,
  "ymin": 191250,
  "xmax": 1551250.1736111045,
  "ymax": 303750,
  "spatialReference": {
   "wkid": 3753,
   "latestWkid": 3753
  }
 },
 "initialExtent": {
  "xmin": 1427500.1736111045,
  "ymin": 191250,
  "xmax": 1551250.1736111045,
  "ymax": 303750,
  "spatialReference": {
   "wkid": 3753,
   "latestWkid": 3753
  }
 },
 "fullExtent": {
  "xmin": 1427500.1736111045,
  "ymin": 191250,
  "xmax": 1551250.1736111045,
  "ymax": 303750,
  "spatialReference": {
   "wkid": 3753,
   "latestWkid": 3753
  }
 },
 "pixelSizeX": 0.4340277777777778,
 "pixelSizeY": 0.4340277777777778,
 "bandCount": 3,
 "pixelType": "U8",
 "minPixelSize": 0,
 "maxPixelSize": 0,
 "copyrightText": "Shelby County Ohio",
 "serviceDataType": "esriImageServiceDataTypeRGB",
 "minValues": [],
 "maxValues": [],
 "meanValues": [],
 "stdvValues": [],
 "objectIdField": "",
 "fields": [],
 "capabilities": "Image,Metadata,Mensuration",
 "defaultMosaicMethod": "Center",
 "allowedMosaicMethods": "",
 "sortField": "",
 "sortValue": null,
 "mosaicOperator": "First",
 "defaultCompressionQuality": 75,
 "defaultResamplingMethod": "Bilinear",
 "maxImageHeight": 4100,
 "maxImageWidth": 15000,
 "allowRasterFunction": true,
 "rasterFunctionInfos": [
  {
   "name": "None",
   "description": "",
   "help": ""
  }
 ],
 "rasterTypeInfos": [
  {
   "name": "Raster Dataset",
   "description": "Supports all ArcGIS Raster Datasets",
   "help": ""
  }
 ],
 "mensurationCapabilities": "Basic",
 "hasHistograms": false,
 "hasColormap": false,
 "hasRasterAttributeTable": false,
 "minScale": 0,
 "maxScale": 0,
 "exportTilesAllowed": false,
 "hasMultidimensions": false,
 "supportsStatistics": false,
 "supportsAdvancedQueries": false,
 "editFieldsInfo": null,
 "ownershipBasedAccessControlForRasters": null,
 "allowComputeTiePoints": false,
 "useStandardizedQueries": true,
 "advancedQueryCapabilities": {
  "useStandardizedQueries": true,
  "supportsStatistics": false,
  "supportsOrderBy": false,
  "supportsDistinct": false,
  "supportsPagination": false
 },
 "spatialReference": {
  "wkid": 3753,
  "latestWkid": 3753
 }
}
