View In:
ArcGIS JavaScript
ArcGIS Online Map Viewer
ArcGIS Earth
ArcMap
View Footprint In:
ArcGIS Online Map Viewer
Service Description: Shelby Co Ohio 2021 Imagery Tile Cache 1:500 through 1:500000 scales
Name: aerials/Shelby2021Mosaic_cache
Description: Shelby Co Ohio 2021 Imagery Tile Cache 1:500 through 1:500000 scales
Single Fused Map Cache: false
Extent:
XMin: 1427500.1736111045
YMin: 191250
XMax: 1551250.1736111045
YMax: 303750
Spatial Reference: 3753
(3753)
Initial Extent:
XMin: 1427500.1736111045
YMin: 191250
XMax: 1551250.1736111045
YMax: 303750
Spatial Reference: 3753
(3753)
Full Extent:
XMin: 1427500.1736111045
YMin: 191250
XMax: 1551250.1736111045
YMax: 303750
Spatial Reference: 3753
(3753)
Pixel Size X: 0.4340277777777778
Pixel Size Y: 0.4340277777777778
Band Count: 3
Pixel Type: U8
RasterFunction Infos: {"name":"None","description":"","help":""}
Mensuration Capabilities: Basic
Has Histograms: false
Has Colormap: false
Has Multi Dimensions : false
Rendering Rule:
Min Scale: 0
Max Scale: 0
Copyright Text: Shelby County Ohio
Service Data Type: esriImageServiceDataTypeRGB
Min Values: N/A
Max Values: N/A
Mean Values: N/A
Standard Deviation Values: N/A
Object ID Field:
Fields:
None
Default Mosaic Method: Center
Allowed Mosaic Methods:
SortField:
SortValue: null
Mosaic Operator: First
Default Compression Quality: 75
Default Resampling Method: Bilinear
Max Record Count: null
Max Image Height: 4100
Max Image Width: 15000
Max Download Image Count: null
Max Mosaic Image Count: null
Allow Raster Function: true
Allow Compute TiePoints: false
Supports Statistics: false
Supports Advanced Queries: false
Use StandardizedQueries: true
Raster Type Infos:
Name: Raster Dataset
Description: Supports all ArcGIS Raster Datasets
Help:
Has Raster Attribute Table: false
Edit Fields Info: null
Ownership Based AccessControl For Rasters: null
Child Resources:
Info
Key Properties
Legend
MultiDimensionalInfo
rasterFunctionInfos
Supported Operations:
Export Image
Identify
Measure
Compute Histograms
Compute Statistics Histograms
Get Samples
Compute Class Statistics
Query Boundary